BEGIN:VCALENDAR
VERSION:2.0
PRODID:-//Diego Sanchez - ECPv6.13.0//NONSGML v1.0//EN
CALSCALE:GREGORIAN
METHOD:PUBLISH
X-ORIGINAL-URL:https://diego-sanchez.com
X-WR-CALDESC:Events for Diego Sanchez
REFRESH-INTERVAL;VALUE=DURATION:PT1H
X-Robots-Tag:noindex
X-PUBLISHED-TTL:PT1H
BEGIN:VTIMEZONE
TZID:America/Sao_Paulo
BEGIN:STANDARD
TZOFFSETFROM:-0300
TZOFFSETTO:-0300
TZNAME:-03
DTSTART:20210101T000000
END:STANDARD
END:VTIMEZONE
BEGIN:VEVENT
DTSTART;TZID=America/Sao_Paulo:20210128T080000
DTEND;TZID=America/Sao_Paulo:20220128T170000
DTSTAMP:20260424T201030
CREATED:20210128T210101Z
LAST-MODIFIED:20210306T143705Z
UID:4252-1611820800-1643389200@diego-sanchez.com
SUMMARY:ONLINE SUPERVISION for energy-based therapists
DESCRIPTION:Let me give a very careful look\nat your work.\n  \nOne of my supervision students said:\n“I wasn’t expecting it would be that powerful!!!”\n\nEnergy work is much more powerful than we want to admit.\nI like to help practitioners use it to its full potential.\n\n  \nONLINE SUPERVISION TUTORIALS\nwith Diego Sanchez\n  \n– 1 to 4 students LIVE as you work on a partner\n– Hourly rate can be shared\n– Presential or Distance Shiatsu techniques\n(your partners can be in the same room or in a different place)\n– Direct and accurate feedback\n– Diagnosis and Treatment techniques\n– Recorded video classes for you to review\n  \nKEEP UP WITH YOUR PROFESSIONAL AND PERSONAL GROWTH\n  \nBOOK YOUR SUPERVISION TUTORIAL SESSION HERE\n  \nI have over 30 years experience in the practice of energy-based therapies and 25 years experience doing Shiatsu.\nI gave my first online distance learning course in 2002!\nI totally live the reality of not being bound by space or time constrictions in my teaching\, diagnosing and treating.\nMORE INFORMATION: \ninfo@diego-sanchez.com\nphone + 598 95278442\n  \n 
URL:https://diego-sanchez.com/event/online-supervision-for-energy-based-therapists/
CATEGORIES:All / Todos,Retreats in Uruguay
ATTACH;FMTTYPE=image/jpeg:https://diego-sanchez.com/wp-content/uploads/2021/01/IMG_4759-scaled.jpeg
END:VEVENT
BEGIN:VEVENT
DTSTART;TZID=America/Sao_Paulo:20220112T120000
DTEND;TZID=America/Sao_Paulo:20220112T133000
DTSTAMP:20260424T201030
CREATED:20220109T145242Z
LAST-MODIFIED:20220109T150120Z
UID:4293-1641988800-1641994200@diego-sanchez.com
SUMMARY:Limpieza energética de casas y lugares de trabajo
DESCRIPTION:Rituales de limpieza energética de espacios.\nNunca pensé que estaría ofreciendo esto!\npero creo que es necesario y muy útil\nasí que me tiro al agua con ustedes.\n  \nlo haremos en 2 clases online de 90 minutos cada una\n1- Limpieza energética de casas y lugares de trabajo.\n2- Supervision práctica de las experiencias de la primera clase\n+ Bonus: cómo encontrar “tu lugar en el mundo”.\n  \nMiércoles 12 y 19 de enero de 12 a 13:30\nClase online en vivo\nUS$50 cada clase o US$90 las dos clases\n  \nEsto vale mucho más\nporque vas a descubrir cosas de ti y tu casa\nque no tenías ni idea!\ny los resultados se verán inmediatamente.\n  \nParece poco tiempo para decidirlo YA\,\npero la realidad es que si no lo hago ahora\,\nno lo haré en el resto del año.\n\nSi es lo que estabas buscando\ny me acompañas en esta idea\ntendrías que confirmar tu participación hoy\,\no a más tardar mañana\, mandando tu depósito\n(te mando los detalles del banco según tu país de residencia).\n  \no click aqui para pagar con PayPal \no enviame tu pago a info@diego-sanchez.com\nen Paypal\n  \nSi sale un grupo de por lo menos 30 personas\nlo hacemos y si no\, te devuelvo el dinero.\nSÓLO ESTÁ DISPONIBLE ESTA VEZ\n  \n  \nclick aqui para pagar con PayPal \nCon tu nombre\ntu email\ny qué clases querés tomar.\nTe enviaré enseguida los detalles para acceder a la clase online.\nPROGRAMA\n1- Limpieza energética de casas y lugares de trabajo.\nExplicación de la dinámica energética y algunos rituales eficaces para mejorar la energía de tus espacios.\n\nMiércoles 19 enero de 12 a 13:30\nClase online en vivo\nUS$50\n(Las clases serán grabadas si te pierdes una).\n  \n  \n2- Supervision práctica de las experiencias de la primera clase\n+\nEncontrar tu lugar en el mundo:\nCual es el trabajo interior que podés hacer para sentirte en cualquier lugar como si fuera tu casa.\n  \nMiércoles 19 enero de 12 a 13:30\nClase online en vivo\nUS$50\n  \n(Las clases serán grabadas si te pierdes una).\n  \nAcordate que podés tomar la clase 1 o la 2 separadamente (US$50 cada una )\no las 2 juntas (US$90).\n  \n\nmas detalles y preguntas en info@diego-sanchez.com\n  \npero no tendré mucho tiempo\npara responder antes de la clase\,\nasi que seguí tu instinto\ny si pensás que es para vos\nanotate ahora.\n  \nclick aqui para pagar con PayPal \nCon tu nombre\ntu email\ny qué clases querés tomar.\nTe enviaré enseguida los detalles para acceder a la clase online.
URL:https://diego-sanchez.com/event/limpieza-energetica-de-tu-casa/
CATEGORIES:All / Todos,Retreats in Uruguay,Spanish
ATTACH;FMTTYPE=image/jpeg:https://diego-sanchez.com/wp-content/uploads/2022/01/2F1C1A4F-E79E-4516-9A3D-F7CBD9C929D1.jpg
END:VEVENT
END:VCALENDAR