BEGIN:VCALENDAR
VERSION:2.0
PRODID:-//Diego Sanchez - ECPv6.13.0//NONSGML v1.0//EN
CALSCALE:GREGORIAN
METHOD:PUBLISH
X-WR-CALNAME:Diego Sanchez
X-ORIGINAL-URL:https://diego-sanchez.com
X-WR-CALDESC:Events for Diego Sanchez
REFRESH-INTERVAL;VALUE=DURATION:PT1H
X-Robots-Tag:noindex
X-PUBLISHED-TTL:PT1H
BEGIN:VTIMEZONE
TZID:Europe/Berlin
BEGIN:DAYLIGHT
TZOFFSETFROM:+0100
TZOFFSETTO:+0200
TZNAME:CEST
DTSTART:20220327T010000
END:DAYLIGHT
BEGIN:STANDARD
TZOFFSETFROM:+0200
TZOFFSETTO:+0100
TZNAME:CET
DTSTART:20221030T010000
END:STANDARD
END:VTIMEZONE
BEGIN:VEVENT
DTSTART;TZID=Europe/Berlin:20220209T190000
DTEND;TZID=Europe/Berlin:20220216T203000
DTSTAMP:20260424T183821
CREATED:20220202T021639Z
LAST-MODIFIED:20220202T164759Z
UID:4304-1644433200-1645043400@diego-sanchez.com
SUMMARY:Energy Cleansing for Homes and Workplaces
DESCRIPTION:Following a post on my Instagram account\na great interest arose in something I’ve been doing for years:\nthe energetic cleansing of houses and work spaces.\n  \nI do it with simple rituals\nthat we have all acquired\nthrough the traditions\nof our different cultures.\n  \nI rediscovered them studying with my shaman teacher\nfrom Russia (I’m from South America\nand the similarities are stunning)\nand I apply them professionally\nin houses difficult to live in\, or to sell\,\nor when something is going on\nand it’s not about you…\nbut about the space.\n  \nI also recommend them to some shiatsu clients\nbecause of their therapeutic value.\n  \nThey are stored\nin our collective unconscious\nand for that reason\nthey are easy to learn.\nIt’s as if we just have to “remember” them.\nThey have gone the way of the\nout-of-fashion “common sense”\,\nsimply because we stopped using them\,\nwhich is a shame because they are VERY effective.\n  \n  \nCleansing and imprinting our energy\nin our home or work spaces\nrenews our vitality\,\nand gives us a new perspective\non life and relationships.\n  \nWhen I proposed this in Spanish\nI didn’t imagine it would generate\nso much interest!\n  \nAs I think it’s very necessary and useful\nI’m throwing myself in it\nby setting a date\nand doing 2 online classes\nin English\non February 9th and 16th.\n  \nWhich is almost NOW!\n  \nIt seems little time to decide\nbut the reality is that if I don’t do it now\,\nI won’t for the rest of the year.\n  \nThis is the plan:\nwe will do it in 2 online classes of 90 minutes each\n1- Energy cleansing of houses and workplaces.\n\n2- Practical supervision of the experiences of the first class\n\n+ Bonus: how to find “your place in the world” (so you can feel at home ANYWHERE)\n  \nWednesday February 9th and 16th\n\nfrom 7 to 8:30PM BERLIN time\n1 to 2:30PM NEW YORK\n3 to 4:30PM Uruguay\n\nlive online class\nUS€50 each class or €90 both classes\n  \nThis is worth much more\nbecause you are going to discover things about yourself and your house\nyou had no idea!\nand the results will show up immediately.\n  \nTHE CLASSES WILL BE RECORDED\nso in case you cannot attend the live event\,\nyou can watch them later.\n  \nIf it’s what you were looking for\nand you accompany me in this idea\nyou would have to confirm your participation ASAP\n  \nby sending your bank wire\n(see details here)\n  \nor pay with PayPal\nwith your credit card\n(please send me a message with your name and email)\n  \nThere’s not that much time left!\nand it’s ONLY AVAILABLE NOW\nREGISTER HERE\nYou can contact me\nfor more details and questions\nat info@diego-sanchez.com\n  \nFollow your gut\nand if it is what you were looking for\nsign up today.\n  \nSee you!\nDiego
URL:https://diego-sanchez.com/event/energy-cleansing-for-homes-and-workplaces/
CATEGORIES:All / Todos,English,Retreats in Uruguay
ATTACH;FMTTYPE=image/jpeg:https://diego-sanchez.com/wp-content/uploads/2022/02/22EFB3A8-6CBB-4901-8F18-3071DE008D7A_1_105_c.jpeg
END:VEVENT
END:VCALENDAR