BEGIN:VCALENDAR
VERSION:2.0
PRODID:-//Diego Sanchez - ECPv6.13.0//NONSGML v1.0//EN
CALSCALE:GREGORIAN
METHOD:PUBLISH
X-ORIGINAL-URL:https://diego-sanchez.com
X-WR-CALDESC:Events for Diego Sanchez
REFRESH-INTERVAL;VALUE=DURATION:PT1H
X-Robots-Tag:noindex
X-PUBLISHED-TTL:PT1H
BEGIN:VTIMEZONE
TZID:America/Sao_Paulo
BEGIN:STANDARD
TZOFFSETFROM:-0300
TZOFFSETTO:-0300
TZNAME:-03
DTSTART:20220101T000000
END:STANDARD
END:VTIMEZONE
BEGIN:VEVENT
DTSTART;TZID=America/Sao_Paulo:20220513T150000
DTEND;TZID=America/Sao_Paulo:20220515T150000
DTSTAMP:20260424T141213
CREATED:20210128T130915Z
LAST-MODIFIED:20220419T012922Z
UID:4246-1652454000-1652626800@diego-sanchez.com
SUMMARY:Retiro en La Pedrera - LUNA LLENA de mayo
DESCRIPTION:Retiro del 13 al 15 de mayo\, frente al mar en La Pedrera.\n  \nConexión con las fuerzas espirituales de la Naturaleza\, para el desarrollo de la conciencia personal y colectiva.\nDescubre tu afinidad a cada elemento y aprende a usarlo en tu vida personal y profesional.\n\n\n  \nMIRA EL VIDEO\n  \n \n\n  \n\n\nMeditación\, ejercicios de autodescubrimiento\, caminatas\, playa\, bosque\, tiempo libre para descansar.\n  \n  \n  \n  \n  \n  \nCONSULTAR PRECIOS AQUI\n  \n  \nPRECIO INCLUYE:\n\n\nAlojamiento en habitación compartida (preguntar por valores en habitación individual)\n\n\nTodas las comidas\n\n\nClases\n\n\nActividades\n\n\nNo incluye transporte\, pero generalmente coordinamos para compartir con los que van en auto desde Montevideo o Punta del Este\n\n\n  \n*Cupos limitados\n  \n  \nInscríbete hoy en info@diego-sanchez.com\nTel +598 95278442\n  \n  \nMAS INFORMACIÓN E INSCRIPCIONES AQUI\n  \n 
URL:https://diego-sanchez.com/event/retiro-luna-llena/
LOCATION:Casa Ohana\, La Pedrera\, Rocha\, Uruguay
CATEGORIES:All / Todos,Retreats in Uruguay
ATTACH;FMTTYPE=image/jpeg:https://diego-sanchez.com/wp-content/uploads/2021/01/IMG_3225-scaled.jpeg
END:VEVENT
END:VCALENDAR