BEGIN:VCALENDAR
VERSION:2.0
PRODID:-//Diego Sanchez - ECPv6.13.0//NONSGML v1.0//EN
CALSCALE:GREGORIAN
METHOD:PUBLISH
X-ORIGINAL-URL:https://diego-sanchez.com
X-WR-CALDESC:Events for Diego Sanchez
REFRESH-INTERVAL;VALUE=DURATION:PT1H
X-Robots-Tag:noindex
X-PUBLISHED-TTL:PT1H
BEGIN:VTIMEZONE
TZID:America/Sao_Paulo
BEGIN:STANDARD
TZOFFSETFROM:-0300
TZOFFSETTO:-0300
TZNAME:-03
DTSTART:20230101T000000
END:STANDARD
END:VTIMEZONE
BEGIN:VEVENT
DTSTART;TZID=America/Sao_Paulo:20230715T180000
DTEND;TZID=America/Sao_Paulo:20230715T210000
DTSTAMP:20260423T190838
CREATED:20220814T212057Z
LAST-MODIFIED:20230615T174653Z
UID:4108-1689444000-1689454800@diego-sanchez.com
SUMMARY:The Heart Uterus connection in GREECE
DESCRIPTION:Heal Feminine energy  (for women and men).\n\n\n\n\nHeal reproductive/ sexual issues.\n\n\nFind your energetic center for effective\, efficient and compassionate action\n\n\nMaterialize your life purpose and mission\n\n\nLove what you feel.\n\n\nFeel what you love\n\n\nThe Heart and the Uterus are connected by an energetic channel called the Bao Mai\, one of the “Extraordinary Meridians” of Traditional Chinese Medicine.\n\nLEARN TO ACTIVATE THIS CONNECTION with a simple and direct technique anyone can do. \n  \nYou can benefit by the live\, direct supervision of an instructor with 30 years experience in energy perception and healing.\nMake the most of the experience of connecting your Bao Mai channel (Heart – Uterus/ Prostate) and specifically design any corrections you may need to overcome blockages or interruptions of the channel causing:\n\n– fertility issues\n– menopause / andropause\n– anorgasmia\n– menstrual & reproductive issues\n– insomnia\n– migraines/ headaches\n– digestive issues\n-obsessive behavior\n\n  \nNo previous experience needed.\nOpen to the general public and therapists of different disciplines.\nBring your own cases and get a tutorial session for yourself or your client.\nOne-on One sessions available before and after the seminar.\n  \nJULY 15th 2023 6-9PM\nat ACROPOLIS gardens\nin Athens\, Greece\n———————————— \nJULY 17th 2023 6-9PM\nat private open-air theater\nin AEGINA\, Greece\n\nCONTACT: INFO@DIEGO-SANCHEZ.COM\n CEL/ WHATSAPP +598 95278442 \n  \nMORE INFORMATION AND REGISTER\n  \n  \n 
URL:https://diego-sanchez.com/event/the-heart-uterus-connection-in-greece/
LOCATION:ATHENS\, GREECE\, ATHENS\, Greece
CATEGORIES:All / Todos,Retreats in Uruguay
ATTACH;FMTTYPE=image/jpeg:https://diego-sanchez.com/wp-content/uploads/2022/08/753F76F9-883B-4E68-8EC4-F3BE290E20AF-1.jpg
END:VEVENT
END:VCALENDAR