BEGIN:VCALENDAR
VERSION:2.0
PRODID:-//Diego Sanchez - ECPv6.13.0//NONSGML v1.0//EN
CALSCALE:GREGORIAN
METHOD:PUBLISH
X-ORIGINAL-URL:https://diego-sanchez.com
X-WR-CALDESC:Events for Diego Sanchez
REFRESH-INTERVAL;VALUE=DURATION:PT1H
X-Robots-Tag:noindex
X-PUBLISHED-TTL:PT1H
BEGIN:VTIMEZONE
TZID:America/New_York
BEGIN:DAYLIGHT
TZOFFSETFROM:-0500
TZOFFSETTO:-0400
TZNAME:EDT
DTSTART:20250309T070000
END:DAYLIGHT
BEGIN:STANDARD
TZOFFSETFROM:-0400
TZOFFSETTO:-0500
TZNAME:EST
DTSTART:20251102T060000
END:STANDARD
BEGIN:DAYLIGHT
TZOFFSETFROM:-0500
TZOFFSETTO:-0400
TZNAME:EDT
DTSTART:20260308T070000
END:DAYLIGHT
BEGIN:STANDARD
TZOFFSETFROM:-0400
TZOFFSETTO:-0500
TZNAME:EST
DTSTART:20261101T060000
END:STANDARD
END:VTIMEZONE
BEGIN:VTIMEZONE
TZID:America/Sao_Paulo
BEGIN:STANDARD
TZOFFSETFROM:-0300
TZOFFSETTO:-0300
TZNAME:-03
DTSTART:20260101T000000
END:STANDARD
END:VTIMEZONE
BEGIN:VTIMEZONE
TZID:America/Montevideo
BEGIN:STANDARD
TZOFFSETFROM:-0300
TZOFFSETTO:-0300
TZNAME:-03
DTSTART:20260101T000000
END:STANDARD
END:VTIMEZONE
BEGIN:VEVENT
DTSTART;VALUE=DATE:20250901
DTEND;VALUE=DATE:20261223
DTSTAMP:20260421T141910
CREATED:20200831T222424Z
LAST-MODIFIED:20250512T224021Z
UID:4180-1756684800-1797983999@diego-sanchez.com
SUMMARY:The Chakra Activation Program - Recordings
DESCRIPTION:FEEL THE CHAKRAS and understand what they are  from your own experience of them.\nA self-discovery journey that will expand\nthe way you look at energy and how you see yourself in the world.\n  \nEXPERIENTIAL ONLINE COURSE\n  \n CLICK HERE TO WATCH A DEMONSTRATION CLASS\n\n\n7-week program\n2 hours per week\nclasses are recorded so you do them at your own time \nPDF class notes\nweekly follow up with instructor via email \nindividual support via email when needed\n\nNo previous experience needed\n  \nREGISTER NOW\n\nINVESTMENT:  €249  US$275   GBP210\n\nPAYMENT via bank transfer in Europe / UK / USA  \n(or REVOLUT VISA\, PayPal with a credit card)  \n  \nBOOK NOW AND DO IT AT YOUR OWN PACE\n  \nMORE INFORMATION AND REGISTER HERE
URL:https://diego-sanchez.com/event/the-chakra-activation-program-recordings/
LOCATION:FI
CATEGORIES:All / Todos,Retreats in Uruguay
ATTACH;FMTTYPE=image/jpeg:https://diego-sanchez.com/wp-content/uploads/2020/08/Chakra-Activation-RECORDINGS-LOGO.001.jpeg
END:VEVENT
BEGIN:VEVENT
DTSTART;TZID=America/Sao_Paulo:20260327T143000
DTEND;TZID=America/Sao_Paulo:20260329T170000
DTSTAMP:20260421T141910
CREATED:20251016T125025Z
LAST-MODIFIED:20260403T043154Z
UID:4814-1774621800-1774803600@diego-sanchez.com
SUMMARY:Initiation aux chakras in Kehl- Strasbourg FR
DESCRIPTION:et comment les intégrer à bon escient dans la pratique du shiatsu\n\n\nLes 27 (après-midi)\, 28 et 29 MARS 2026\n\n\n\n\n\nComments by organizer Rachel Dammer-Pierron from Kin’Kou Shiatsu: \nJ’ai connu Diego SANCHEZ depuis un peu moins d’une dizaine d’années sur les réseaux sociaux. Etant moi-même passionnée de photographie\, je suis tout d’abord tombée sous le charme de ses multiples photos. \n\n\n\nMon shiatsu ayant évolué au fil du temps\, toujours en questionnement sur moi-même\, sur ma pratique\, j’ai commencé à m’intéresser à son travail sur les chakras en tant que praticien shiatsu et à ses retraites spirituelles. \nJ’ai décidé de participer à son cours en ligne “The Foundations of Energy Allignment”. Et puis\, j’ai franchi le cap et l’ai invité pour nous faire un cours\, ici\, à Kehl (Strasbourg). Cours tenu en langue française. J’étais très surprise qu’il accepte et qu’il m’intègre dans son parcours européen. Diego se rend deux fois par an en Europe (Grèce\, Suisse\, Autriche\, Pays-Bas\,…). Passionné de shiatsu\, Diego Sanchez a le mérite d’être connu dans le monde francophone. \n  \n\n\n\n\n\nMais qui est Diego Sanchez?\n\n\n\n\n\nDiego pratique et enseigne le shiatsu et la méditation depuis plus de 30 ans. \nIl est spécialisé dans l’accompagnement des patients gravement malades grâce au shiatsu et aux techniques chamaniques. \nNé et élevé en Uruguay\, il a vécu dans plusieurs pays européens avant de s’installer à New York. Il était présent lors des attentats du 11 septembre et a travaillé à Ground Zero et ailleurs\, dispensant du shiatsu aux secouristes\, à la police et à l’armée. \nIl faisait partie de l’équipe du programme de médecine intégrative du Dr Oz à l’hôpital presbytérien Columbia\, dispensant du shiatsu aux patients ayant subi une opération à cœur ouvert ou une greffe d’organe en unité de soins intensifs. \nIl a travaillé plus de 6 ans comme bénévole dans un centre de soutien aux personnes atteintes de cancer\, du VIH et du sida\, ainsi que dans un service de soins palliatifs à New York. \nIl vit actuellement en Uruguay\, où il organise des retraites internationales et enseigne régulièrement en Europe et aux États-Unis. Il parle espagnol\, anglais\, français\, italien et portugais. \nIl est membre du registre de la Shiatsu Society du Royaume-Uni (MRSS)\, diplômé en thérapie corporelle asiatique (NCCAOM)\, praticien certifié (C.P.) par l’AOBTA aux États-Unis et massothérapeute agréé (LMT) dans l’État de New York. \n  \n\n\n\n\n\nOù a-t-il étudié le shiatsu et avec quel professeur ?\n\n\nIl vivait en France lorsqu’il a découvert le shiatsu\, puis il a  déménagé en Angleterre pour se former au Shiatsu College de Londres. Il était  très chanceux d’avoir été formée avec des professeurs et des camarades de classe aussi formidables. \nCertains de ses professeurs lui avaient  dit avoir appris des choses très intéressantes auprès de Pauline Sasaki. Après sa formation\, il est allé à New York et il a rencontré Pauline. Elle lui a donné une séance et l’a invitée à dîner avec son mari. Jusque-là\, il pensait que même si le shiatsu était sa voie\, il devrait avoir un autre emploi pour payer ses factures et pratiquer le shiatsu à côté. Mais cette conversation lui a fait réaliser que je pouvais survivre en tant que praticien de shiatsu. \nElle a été une source d’inspiration pour lui et s’est formé formée avec elle pendant les huit années qui ont suivi. Il a  réalisé un documentaire sur elle intitulé « Le Potentiel Humain » \n  \n\n\n\n\n\nMaître Gregory Antyuhin se surnomme lui-même le « Chaman sans tambour » car il n’utilise aucune substance ni aucun rituel courant dans de nombreuses traditions pour se connecter à l’esprit. Diego s’est formé auprès de lui pendant plusieurs années pour observer et travailler avec les forces spirituelles de la nature\, les chakras et les cinq parties de l’esprit. \nPauline Sasaki a également étudié auprès de lui et a intégré le shiatsu et les théories et pratiques du système chamanique que Diego continue de développer dans son travail. \nLa combinaison de techniques shiatsu et chamaniques que Diego utilise dans ses séances lui permet de détecter rapidement les schémas énergétiques qui sont à la source des symptômes\, économisant parfois des années de traitements médicaux ou psychologiques inadéquats. \n  \n\n\n\n\nLe stage en lui-même\n\n\n\n\n\nLa majorité du travail lors de ce stage sera de la pratique. Un peu de théorie nous accompagnera tout le long de ces trois jours.. Le stage portera sur les chakras\, leur activation & intégration dans la pratique du shiatsu selon le modèle de Pauline Sasaki. \nNous apprendrons concrètement quand on peut les utiliser\, ou au contraire plutôt utiliser les méridiens afin de maximiser nos séances. \nBeaucoup d’exerccices afin d’activer nos chakras et beaucoup de pratique tout le long de ces 3 jours! \nStage ouvert à tous\, praticiens ou élèves en shiatsu de tout style mais aussi ouvert aux praticiens ayant des enseignements et des pratiques différentes et aimant en savoir d’avantage sur les chakras. Diego donnera des informations simples et applicables à tous. \n\n\n\n\nLIEU: Salle paroissiale St. Johannes Nepomuk\, Gustav-Weis-Strasse 2\, 77694 Kehl– Allemagne \nLANGUE : FRANCAIS \nHORAIRES: 9 – 17.00 h pauses incluses \n  \nSEANCES DE SHIATSU: Diego nous propose des séances de shiatsu la veille et le lendemain du stage. Si vous êtes intéressé\, contactez moi. Tarif préférentiel pour les trois premiers rendez-vous.
URL:https://diego-sanchez.com/event/initiation-aux-chakras-in-kehl-strasbourg-fr/
LOCATION:KEHL/ STRASBOURG\, Gustav-Weis-Strasse 2\, 77694\, Kehl\, 77694
CATEGORIES:All / Todos
ATTACH;FMTTYPE=image/jpeg:https://diego-sanchez.com/wp-content/uploads/2025/10/diego-sanchez-kehl-strasbourg-2026.jpg
END:VEVENT
BEGIN:VEVENT
DTSTART;TZID=America/Sao_Paulo:20260409T190000
DTEND;TZID=America/Sao_Paulo:20260409T220000
DTSTAMP:20260421T141910
CREATED:20260318T121949Z
LAST-MODIFIED:20260403T043335Z
UID:4889-1775761200-1775772000@diego-sanchez.com
SUMMARY:Conessione con L´Energia Anti- Patologica - classe aperta a Firenze
DESCRIPTION:Conessione con L’ Energia Anti-patologica\nquando non ci sentiamo bene\, la maggior parte della nostra attenzione è portata sul nostro problema\, sintomo o malattia\, ed è diretta lì anche un pò dell’attenzione dei nostri familiari\, amici\, colleghi.\n\nIn genere ci si rivolge ad un terapeuta\, ad uno specialista… e cresce l’investimento energetico che nutre il problema: “l’Energia Patologica”.\n\nQuando c’è un disequilibrio nel corpo\, si attivano allo stesso tempo sia processi patologici\, sia processi di riequilibrio\, questi ultimi sono sostenuti “dall’Energia Anti-patologica” che rappresenta la soluzione del problema.\n  \nIn questa classe impareremo a distinguere questi due movimenti ed a contattare e rafforzare il funzionamento dell’Energia Anti-patologica affinchè si prenda\, essa stessa\, cura del problema.\n  \n\n9 Aprile 2026\nalle 19:00- 22:00\nBarberino Val D´Elsa\, Firenze\nToscana\n\n  \n 
URL:https://diego-sanchez.com/event/conessione-con-lenergia-anti-patologica-classe-aperta-a-firenze/
LOCATION:Barberino Val D’Elsa\, FIRENZE\, Firenze\, FI\, Italy
CATEGORIES:All / Todos
ORGANIZER;CN="Ludovica Dei":MAILTO:info@diego-sanchez.com
END:VEVENT
BEGIN:VEVENT
DTSTART;TZID=America/Sao_Paulo:20260411T100000
DTEND;TZID=America/Sao_Paulo:20260412T170000
DTSTAMP:20260421T141910
CREATED:20260126T195310Z
LAST-MODIFIED:20260211T183218Z
UID:4852-1775901600-1776013200@diego-sanchez.com
SUMMARY:L'AUTO-DIAGNOSI ENERGETICA- weekend a Firenze
DESCRIPTION:L’auto-diagnosi energetica\ncome fare una valutazione dei diversi livelli della tua energia e integrarli in una pratica personalizzata.\nDurante il seminario saremo guidati in esercizi semplici\, basati sull’espansione della propria auto percezione\, per scoprire la propria mappa energetica personale.\n\nFaremo esperienze attraverso:\n– il sistema dei chakra\n– il sistema dei meridiani della medicina cinese\n– la connessione con gli elementi della natura\, per sentire qual è l’elemento che più ti sostiene.\n– sentire il tipo di appoggio che ricevi dal tuo passato\, dal tuo presente e la tua visione del futuro.\nCon queste preziose informazioni potrai creare una meditazione specifica e mirata\, invece che seguire formule generali che non sempre si applicano alla tua individualità.\nISCRIZIONE:\nPlease click CLICK QUI PER ISCRIVERTI\n  \nRiguardo all’insegnante:\nSeguendo la tradizione della sua insegnante Pauline Sasaki (Quantum Shiatsu)\, Diego Sanchez è sempre stato inspirato dal fare esperienza della conoscenza nella sua applicazione nella realtà della vita\, al di là della teoria\, direttamente nella pratica di come si sente e significa per ogni persona.\nDopo anni di pratica di shiatsu\, Diego a Pauline hanno seguito Gregory Antyuhin\, uno Sciamano Russo (detto Dr Raggi X) che ha un sistema molto efficace di sentire e percepire il movimento dei chakra nel qui e ora. Avendo una diretta esperienza nel percepire le dinamiche energetiche nei suoi clienti\, è stato semplice osservare i cambiamenti che succedevano nella collettività nel corso degli anni.\nPauline\, con la sua chiara visione dell’energia\, ha aperto la strada ad una integrazione della teoria dei meridiani della medicina tradizionale cinese/shiatsu con il sistema dei chakra (ayurveda/sciamanesimo) in un sistema di salute coerente ed efficace.\nDiego negli ultimi 25 anni sta continuando a sviluppare questo sistema con una fertile pratica\, continuando a fare ricerca ed a sviluppare le tecniche più adatte a procedere col ritmo dei cambiamenti globali che impattano sull’umanità.\n  \nhttps://diego-sanchez.com/events/ \nLudovica Dei Operatrice Shiatsu e Medicina Cinese Insegnante Yoga Studio Via Repubblica 65 Poggibonsi Si Privacy \nSe non desideri più ricevere e-mail rispondi a questa mail chiedendo di essere cancellato dalle liste. \n\n+ GOOGLE CALENDAR+ ICAL EXPORT
URL:https://diego-sanchez.com/event/lauto-diagnosi-energetica-weekend-a-firenze/
LOCATION:FI
CATEGORIES:All / Todos,Retreats in Uruguay
ATTACH;FMTTYPE=image/jpeg:https://diego-sanchez.com/wp-content/uploads/2026/01/e-investimento-1.jpg
END:VEVENT
BEGIN:VEVENT
DTSTART;TZID=America/Sao_Paulo:20260411T100000
DTEND;TZID=America/Sao_Paulo:20260412T170000
DTSTAMP:20260421T141910
CREATED:20260222T104809Z
LAST-MODIFIED:20260222T105031Z
UID:4855-1775901600-1776013200@diego-sanchez.com
SUMMARY:ENERGY SELF-DIAGNOSIS - in Florence Italy
DESCRIPTION:ENERGY SELF-DIAGNOSIS \nHow to assess your energy at different levels and integrate them into a personalized meditation practice. \nDuring the seminar\, we will be guided through simple exercises based on expanding our self-perception to discover our personal energy map.\n  \nWe will explore:\n– the chakra system\n– the meridian system of Chinese medicine\n– connecting with the elements of nature\, to sense those that most support you\n– the type of support you receive from your past\, your present\, and your vision of the future.\n  \n  \nWith this valuable information\, you will be able to create a specific and targeted meditation\, rather than following general formulas that don’t always apply to your individuality.\n  \n  \nAPRIL 11- 12th 2026\nVilla Vrindavana (Machiavelli’s family house just outside Florence)\n€290\n€390 with room and board\n  \nREGISTER:\nINFO@DIEGO-SANCHEZ.COM \nWHATSAPP +59895278442 \n 
URL:https://diego-sanchez.com/event/energy-self-diagnosis-in-florence-italy/
LOCATION:FI
CATEGORIES:All / Todos
ATTACH;FMTTYPE=image/jpeg:https://diego-sanchez.com/wp-content/uploads/2026/01/energy-self-diagnosis.jpg
END:VEVENT
BEGIN:VEVENT
DTSTART;TZID=America/Montevideo:20260501T090000
DTEND;TZID=America/Montevideo:20261129T170000
DTSTAMP:20260421T141910
CREATED:20170324T051442Z
LAST-MODIFIED:20260309T142946Z
UID:2873-1777626000-1795971600@diego-sanchez.com
SUMMARY:Zen Shiatsu - curso de Formación Profesional en Uruguay
DESCRIPTION:FORMACION PROFESIONAL EN ZEN SHIATSU\n  \nCurso de autoconocimiento y desarrollo personal\na través de la formación en el arte del contacto curativo\n  \nCurso de 1 año\n\n– 3 módulos presenciales en formato retiro de 5 días por módulo en La Pedrera\, Rocha\, Uruguay.\nIncluye alojamiento\, comidas\, todas las clases y actividades.\n – 2 Clases de práctica online en vivo por mes de 1.5 horas.\n– Encuentros de práctica mensuales de 2 horas supervisadas\, presencial en Montevideo hasta noviembre 2026.\n– Material con videos disponibles en plataforma online.\n– Notas de clase.\n – Grupo de apoyo para preguntas y respuestas via facebook.\n\n  \n1-5 mayo \n27 junio – 1 julio \n21- 25 agosto \n  \n  \n\nMAS INFORMACIÓN E INSCRIPCIONES AQUI\n  \nPROGRAMA:\nLos fundamentos de la medicina tradicional china.\nConceptos básicos de Anatomía y Fisiología\n12 Meridianos\nEjercicios físicos auto-curativos.\nAlineamientos posturales.\nEjercicios de percepción energética.\nTratamiento en todas las posiciones.\nPrincipios de la dieta curativa\nÉtica en la relación terapéutica.\nCosmología Energética\nMeditación\n\n  \n¿QUE ES EL ZEN SHIATSU? LEE MI ARTICULO AQUI\n  \nNo hace falta experiencia previa pero es necesario tener una entrevista con Diego\, previa a la inscripción.\n\nLugar: \nLa Pedrera y Montevideo\, Uruguay\n  \n  \n105 horas presenciales en formato retiro\n4 horas de prácticas mensuales\n2 sesiones de evaluación individual\nsesiones supervisadas en nuestros programas en el Hospital Pereira Rossell\n134 horas presenciales total al año.\n\n\n  \nMira en este video\, \nuna de las actividades que nuestros estudiantes estarán haciendo \ncomo prácticas supervisadas.\n \n  \nDiego Sanchez es un instructor y practicante de shiatsu con más de 30 años de experiencia. Graduado del Shiatsu College de Londres en Shiatsu y Medicina Tradicional China\, Licenciado por el Estado de Nueva York (EEUU) en Terapias Corporales Asiáticas. Es profesor invitado por las más prestigiosas escuelas de shiatsu de Europa (Italia\, España\, Inglaterra\, Suiza\, Alemania\, Holanda) y ha dado cursos en la Universidad de Columbia en Nueva York\, la Universidad de Eppendorf\, Alemania y la Universidad Católica del Uruguay. Actualmente lleva adelante un programa de Humanización de la Medicina\, dando cientos de sesiones de Zen Shiatsu al personal del area de recién nacidos del Hospital Pereira Rossell en Montevideo.\n\ninscripciones:\ninfo@diego-sanchez.com\nTel. +598 95278442\n  \n  \n  \nFECHAS DEL CURSO EN 2026\n\n\nDescubre tu potencial humano mientras te transformas en un profesional de este arte curativo. \n \n \nINSCRIBITE AQUI\n  \n  \n  \ngo to tsubook site http://www.tsubook.com
URL:https://diego-sanchez.com/event/zen-shiatsu-curso-de-formacion-profesional-en-uruguay/
LOCATION:Casa Ohana\, La Pedrera\, Rocha\, Uruguay
CATEGORIES:All / Todos,English,Retreats in Uruguay,Spanish
ATTACH;FMTTYPE=image/jpeg:https://diego-sanchez.com/wp-content/uploads/2017/03/IMG_6687-1.jpeg
END:VEVENT
BEGIN:VEVENT
DTSTART;VALUE=DATE:20260925
DTEND;VALUE=DATE:20261002
DTSTAMP:20260421T141910
CREATED:20250311T193301Z
LAST-MODIFIED:20260314T223735Z
UID:4722-1790294400-1790899199@diego-sanchez.com
SUMMARY:RETREAT IN GREECE Meditation and Yoga in Nature
DESCRIPTION:The Way of the Elements: A Consciousness Retreat between Yoga and Ancestral Traditions \nMILOS Sept 25th – Oct 1st 2026\nThe island of Milos\, with its white rocks and transparent sea\, is a landscape that invites silence and listening. In this essential nature\, freedom and presence become immediate. The wind\, the sun\, the volcanic earth\, and the sea water are not a backdrop: they are a living part of the practice. \n\n🌿 The workshop was born from a desire to explore consciousness through the body. \nTraditional yoga offers tools for profound transformation: asana\, prānāyāma\, mudrā\, bandha\, and dhāraṇā practices. Through consistent practice\, everyone can rediscover an innate capacity for transformation and evolution of consciousness. It’s not about learning something new: it’s about remembering what has always been present. \n  \n🌿 Alongside yoga\, ancestral practices bring another perspective: sound\, rhythm\, symbolism\, and a relationship with the elements and the Earth. \n  \nThey are different traditions\, born in distant places and times\, yet driven by the desire to open broader interior spaces\, to connect human beings with nature and with something beyond. \n\nThe retreat thus becomes a meeting of different paths. The paths are not identical\, and they don’t intend to be. But they all point in the same direction: a clearer\, more present\, more alive consciousness. \n  \nEvery day we will explore body\, breath\, rhythm\, and nature. Every practice will become an opportunity to feel more deeply who we are. Transformation is not a goal to be achieved\, but a natural process that manifests when we listen. \nMilos supports us with its understated beauty: the light of the Aegean\, the purifying wind\, the silence of the rocks\, the embrace of the sea. \nHere we can slow down\, simplify\, and rediscover a unique connection with life. Yoga and ancestral practices\, despite their diversity\, demonstrate a common truth: consciousness can expand. And every human being can experience it. \n\n  \nDIEGO SANCHEZ – MEDITATION AND HEALING with the Spiritual Forces of Nature\n\nFRANCESCA PALOMBI – YOGA\n\n  \n  \nCLICK HERE FOR MORE INFO AND REGISTRATION\n\n\nRegistration open! \n\n\n\n\n@diego.sanchez.shiatsu \n@francescapalombi_yoga
URL:https://diego-sanchez.com/event/retreat-in-milos-greece/
LOCATION:MILOS\, GREECE\, TRIPITI\, MILOS\, Greece
CATEGORIES:All / Todos,Retreats in Uruguay
ATTACH;FMTTYPE=image/jpeg:https://diego-sanchez.com/wp-content/uploads/2025/03/MILOS-2026.001.jpeg
END:VEVENT
END:VCALENDAR