BEGIN:VCALENDAR
VERSION:2.0
PRODID:-//Diego Sanchez - ECPv6.13.0//NONSGML v1.0//EN
CALSCALE:GREGORIAN
METHOD:PUBLISH
X-WR-CALNAME:Diego Sanchez
X-ORIGINAL-URL:https://diego-sanchez.com
X-WR-CALDESC:Events for Diego Sanchez
REFRESH-INTERVAL;VALUE=DURATION:PT1H
X-Robots-Tag:noindex
X-PUBLISHED-TTL:PT1H
BEGIN:VTIMEZONE
TZID:UTC
BEGIN:STANDARD
TZOFFSETFROM:+0000
TZOFFSETTO:+0000
TZNAME:UTC
DTSTART:20140101T000000
END:STANDARD
END:VTIMEZONE
BEGIN:VEVENT
DTSTART;TZID=UTC:20141005T100000
DTEND;TZID=UTC:20141005T170000
DTSTAMP:20260424T014551
CREATED:20140910T170430Z
LAST-MODIFIED:20140924T144956Z
UID:1790-1412503200-1412528400@diego-sanchez.com
SUMMARY:IL POTERE DEL RADICAMENTO - A TREVIGLIO (BG -MILANO) OCT 5\, 2014
DESCRIPTION:IL POTERE DEL RADICAMENTO\n(The Power of Grounding)\n \nVuoi imparare a gestire meglio le situazioni difficili e lo stress?\nVuoi sentirti più sicuro nel rapporto con gli altri?\nVuoi vivere serenamente e raggiungere i tuoi obiettivi?\nC’è un modo per godersi la vita imparando a essere radicato ovunque tu sia !\nAttraverso tecniche di meditazione\, mindfulness\, semplici esercizi di attivazione energetica potremo raggiungere il benessere psicofisico.\nImpareremo ad usare questi strumenti ogni giorno e nei momenti difficili.\nhttps://vimeo.com/106925719 \n  \nDIEGO SANCHEZ vive in Uruguay\, è un insegnante di meditazione e operatore di shiatsu di fama internazionale che si è formato allo Shiatsu College di Londra con Pauline Sasaki.  \nDa anni collabora attivamente con importanti strutture medico-ospedaliere sia negli Stati Uniti che in Europa portando la sua esperienza a supporto della medicina convenzionale.  In 2001 ha vinto premio AOBTA per organizzare ed offrire supporto al personale di socorso alle vittime del crollo delle Torri Gemelle di New York.  \nParla fluentemente italiano. \nQUANDO?\nSABATO 4 ottobre: TRATTAMENTI SHIATSU INDIVIDUALI CON DIEGO SANCHEZ\nDOMENICA 5 ottobre ore 10-17: “IL POTERE DEL RADICAMENTO”\nLUNEDI 6 ottobre: TRATTAMENTI SHIATSU INDIVIDUALI CON DIEGO SANCHEZ\n\n\n  \nDOVE?\nAssociazione Papaveri Bianchi\,\nvia Montegrappa 32\,  24047 Treviglio (BG).\nFacilmente raggiungibile in treno ed in auto da Milano/Verona/Brescia/Bergamo.\n \nPOSTI LIMITATI: 25 PERSONE \nPREZZO SPECIALE PER PRENOTAZIONI ENTRO IL 25 SETTEMBRE \nINFO-ISCRIZIONI :\nCell.  3338466238 Francesca e 338721795 Maria Grazia.\nMail: associazionepapaveribianchi@gmail.com\n  \n\nANCHE IN ITALIA:\nCHACKRAS: L’ESPERIENZA DEGLI ARCHETIPI NEL CORPO\nOTTOBRE 17 e 18 2014\n  \n  \n\n  \n  \n 
URL:https://diego-sanchez.com/event/il-potere-del-radicamento-a-treviglio-italia-oct-5-2014/
LOCATION:Associazione Papaveri Bianchi\, via Montegrappa 32\,  24047\,  Treviglio \, BG\, 24047\, Italy
END:VEVENT
BEGIN:VEVENT
DTSTART;TZID=UTC:20140917T193000
DTEND;TZID=UTC:20140917T204500
DTSTAMP:20260424T014551
CREATED:20140911T235907Z
LAST-MODIFIED:20150729T022344Z
UID:1794-1410982200-1410986700@diego-sanchez.com
SUMMARY:Técnicas Sencillas para Auto-Equilibrarse - Clase Gratis el 17/ 9 en Pocitos
DESCRIPTION:  \nContinuando nuestro ciclo de charlas abiertas con Diego Sanchez y Nancy Jonckheere este miércoles enseñaremos otras herramientas útiles para auto-equilibrarse.\nNancy Jonckheere (Bélgica) aportará de su larga experiencia como profesional en Kinesiologia Especializada o Memoria Celular y Diego Sanchez desde la dinámica de las Meditaciones Activas enseñará ejercicios vivenciales sencillos y prácticos para aplicar en cualquier momento de tu día.\nNo hace falta experiencia previa.\nActividad sin costo.  Lugares limitados. \nEs absolutamente imprescindible la inscripción previa por email para reservar un lugar.\nEspacio Integra\nBvar España 2600 esq. Dr Enrique Muñoz\nINSCRIPCIONES AQUI\n\nNO TE PIERDAS EL CURSO COMPLETO DE LA ENERGÍA DE LOS CHAKRAS EL 1 DE NOVIEMBRE EN MONTEVIDEO\n \n[tabbed_section] [tab title=”¿Qué son las Meditaciones Activas?” id=”t1″] Muchas personas que se han acercado a la meditación\, por curiosidad\, o por necesidad y encontrado que es “imposible dejar la mente en blanco”. La naturaleza de la mente es estar activa y a veces es mejor aprovechar ese movimiento en vez de tratar de detenerlo. Hay muchos tipos de meditación\, y en este ciclo buscamos experimentar con diferentes técnicas para ver cuál es más apropiada para cada uno. El objetivo de las clases es el de darnos cuenta de cómo usamos nuestra energía y aprender a dirigirla hacia nuestros objetivos de paz\, salud y abundancia\, inmediatamente\, sin necesidad de años de práctica antes de ver un resultado. [/tab] [/tabbed_section]\n\nINFORMACION E INSCRIPCIONES AQUI\n. \n 
URL:https://diego-sanchez.com/event/tecnicas-sencillas-para-auto-equilibrarse-clase-gratis-el-17-9-en-pocitos/
LOCATION:Espacio Integra\, Bvar España 2600\, Montevideo\, MOntevideo\, Uruguay
CATEGORIES:Spanish
ATTACH;FMTTYPE=image/jpeg:https://diego-sanchez.com/wp-content/uploads/2014/09/IMG_50031.jpg
END:VEVENT
BEGIN:VEVENT
DTSTART;TZID=UTC:20140907T100000
DTEND;TZID=UTC:20140907T160000
DTSTAMP:20260424T014551
CREATED:20140804T161846Z
LAST-MODIFIED:20150729T022310Z
UID:1749-1410084000-1410105600@diego-sanchez.com
SUMMARY:UNDERSTANDING FEMININE ENERGY (for Men) - New York City
DESCRIPTION:[divider line_type=”Full Width Line” custom_height=””]\n\n  \nInner conflict arises when men\, and corporations are asked to listen and communicate more\, think laterally\, multitask\, and even connect with emotions. This is especially relevant now as we are emerging from a centuries-old model of masculinity based on steely determination\, verticality and single mindedness. Understanding the Feminine/Masculine dynamics in energetic terms helps you make peace with these apparently opposing principles and allows you to integrate this understanding and ability in personal relationships and at work.\nIn this class\, Diego applies shamanic techniques to connect with Masculine and Feminine streams of energy. The group will learn to recognize the influence of these energies in personal\, social and professional aspects of their lives.\n\n\n\nIn this seminar you will:\n– Understand Right/Left brain hemisphere’s visions of the world\n – Work out blockages in Male/Female relationships\n – Integrating intuition in your actions and decisions\n – Get extra support from your environment to materialize your projects\n – Refresh your worldview\n – Add meaning to your life\n – Be more creative\n – Reassess the value of flexibility\n – Be more empathetic and sense what are the real needs of the people around you.\n – Activate your inner/intuitive vision\n\n\n[divider line_type=”Full Width Line” custom_height=””]\nregister here
URL:https://diego-sanchez.com/event/understanding-feminine-energy-for-men-new-york-city/
LOCATION:Tournesol Wellness\, 26 East 36th Street  (646) 395-1114\, New York\, NY\, 10016\, United States
CATEGORIES:English
ATTACH;FMTTYPE=image/png:https://diego-sanchez.com/wp-content/uploads/2014/03/solo.png
END:VEVENT
BEGIN:VEVENT
DTSTART;TZID=UTC:20140829T190000
DTEND;TZID=UTC:20140831T170000
DTSTAMP:20260424T014551
CREATED:20140612T193139Z
LAST-MODIFIED:20150729T022344Z
UID:1678-1409338800-1409504400@diego-sanchez.com
SUMMARY:Retiro de Conexión con la Sabiduría Interior- La Pedrera\, 29 al 31de agosto 2014
DESCRIPTION:  \nESPACIO CO-CREATIVO EN LA NATURALEZA \ncon Diego Sanchez\, Nancy Jonckheere\, Mariana Ingold y Kit Walker\n[testimonial_slider autorotate=”5000″] [testimonial name=”Diego Sanchez” quote=”MEDITACIONES ACTIVAS” id=”t1″] [testimonial name=”Mariana Ingold y Kit Walker” quote=”SANANDO CON SONIDO” id=”t2″] [testimonial name=”Nancy Jonckheere” quote=”ALIMENTACION VIVA” id=”t3″] [/testimonial_slider]\nMEDITACIONES ACTIVAS – Aprende a darle un descanso a tu mente\, mientras la usas para ayudarte a conectar con todas las partes de ti misma y con las fuerzas de la Naturaleza- con Diego Sanchez\nALIMENTACION VIVA – conecta con el potencial de toda tu energía a través de facilitar la digestión con alimentos y prácticas sanas de alimentación- con Nancy Jonckheere\n\nSANANDO CON LA VOZ – disfruta del poder sanador del sonido de tu voz\, la música y el silencio- con Mariana Ingold y Kit Walker\nCONTACTO CON LA NATURALEZA en un  entorno de cualidades energéticas muy especiales\, donde podrás acercarte al latido y vibración de los elementos\nTIEMPO PARA TI MISMA – saliendo de tus rutinas y compartiendo con personas en tu misma búsqueda\, o permiténdote estar en la perfecta soledad del paisaje.\n    ¿Cómo son los Retiros?  Mira la presentación AQUI\n \nUn retiro para conectar con tu sabiduría interior\, en un entorno único.  Alojamiento frente al mar\, comidas sanas\, clases y todas las actividades incluídas. (No incluye transporte) \n  \nmas información e inscripciones AQUI o en info@Diego-Sanchez.com\n 
URL:https://diego-sanchez.com/event/retiro-de-conexion-con-la-sabiduria-interior-la-pedrera-29-al-31-de-agosto-2014/
LOCATION:Casa Ohana\, La Pedrera\, Rocha\, Uruguay
CATEGORIES:Spanish
ATTACH;FMTTYPE=image/jpeg:https://diego-sanchez.com/wp-content/uploads/2014/06/agua-splash-11.111.jpg
END:VEVENT
BEGIN:VEVENT
DTSTART;TZID=UTC:20140826T120000
DTEND;TZID=UTC:20140826T130000
DTSTAMP:20260424T014551
CREATED:20140821T215817Z
LAST-MODIFIED:20150729T022344Z
UID:1785-1409054400-1409058000@diego-sanchez.com
SUMMARY:CHARLA GRATIS: Sincronizando la Acción con el Corazón. 26 de agosto de 12 a 13hs en Montevideo
DESCRIPTION:Clase gratis para conectarse con el corazón y alinear tus acciones con tus deseos;\n\ncon Diego Sanchez y Nancy Jonckheere :\nIntroducción a la meditación activa y kinesiología especializada en\n Espacio Marma\, en Carrasco Montevideo.\nAprende herramientas simples para sentir mas alegría\, energía y entusiasmo en tu vida cotidiana.\nSólo con inscripción previa\,\n\nCupos limitados.\nclick para reservar tu lugar aqui\n\nSi querés saber cómo son nuestros retiros en La Pedrera\, mirá esta presentación \n\n\n\n\n\n\n\n\n\n\n\n\n 
URL:https://diego-sanchez.com/event/charla-gratis-sincronizando-la-accion-con-el-corazon/
LOCATION:Espacio MARMA\, Rivera 6488\, Local 5\, Montevideo\, Montevideo\, 11511\, Uruguay
CATEGORIES:Spanish
END:VEVENT
BEGIN:VEVENT
DTSTART;TZID=UTC:20140725T140000
DTEND;TZID=UTC:20140725T151500
DTSTAMP:20260424T014551
CREATED:20140724T165814Z
LAST-MODIFIED:20150729T022344Z
UID:1734-1406296800-1406301300@diego-sanchez.com
SUMMARY:Dia Fuera del Tiempo 777 - evento gratuito en Espacio Marma el 25-7-2014 a las 14hs
DESCRIPTION:El 25 de julio es el Día de Fuera del Tiempo.\n\n\nTodos los años se festeja en esta fecha el hecho que hay un día que queda fuera de los 365 del año (en el calendario Gregoriano)\, porque en el calendario Maya y de otras culturas los ciclos se rigen por la luna. \n\nAl haber 13 lunas cada 28 días (28×13= 364) queda un día “fuera del calendario”.  Ese día los Mayas lo dedican a no hacer nada y soltar lo que no necesitan de las experiencias pasadas\, ya que se considera el inicio del año en la primera luna que empieza al día siguiente\, el 26 de julio.\n\n\nEn interesante ver las sincronías de tiempo. Me gusta cuando miro la hora y veo números como el 9:09\, 14:41\, 11:11\, etc.\, ya que he comprobado que cuanto más de estos números perfectos veo en mi día\, más en sintonía  me siento con lo que hago y las cosas en general fluyen mucho más fácilmente.  Yo lo hago intuitivamente. No calculo tanto las fechas\, pero siempre tiendo a elegir fechas para mis eventos que tienen alguna particularidad numérica.\n\n\nEste 25-7-2014 es la tercera vez que en este mes de julio se da el 777 (las otras fueron el 7 y el 16 de julio). Además que 2014 contiene el 7×2= 14.\n\n\nNo había aún reparado en lo especial de la coincidencia\, ya que hubieron eventos de sincronía a nivel global el 7-7-2014 que atrajeron la atención (ver Matías di Stefano/ Harwithum) .  El hecho que se repita el 777 por tres en el mismo mes (y en el año)\, me da más curiosidad aún y quiero aprovechar para compartirlo con todos.\n\n\n\nMañana viernes 25-7-2014 (de 14 a 15:15hs)\nMeditación espontánea\, sonido\, presencia consciente.\nen Espacio Marma \n\n\nRivera 6488\nMontevideo\, Uruguay\n\n\n\n\n\n2604 3412\n\nEntrada libre pero es importante CONFIRMAR ASISTENCIA a info@Diego-Sanchez.com por temas de espacio.
URL:https://diego-sanchez.com/event/dia-fuera-del-tiempo-777-evento-gratuito-en-espacio-marma-el-25-7-2014-a-las-14hs/
LOCATION:Espacio MARMA\, Rivera 6488\, Local 5\, Montevideo\, Montevideo\, 11511\, Uruguay
CATEGORIES:Spanish
END:VEVENT
BEGIN:VEVENT
DTSTART;TZID=UTC:20140707T100000
DTEND;TZID=UTC:20140707T160000
DTSTAMP:20260424T014551
CREATED:20140617T060933Z
LAST-MODIFIED:20150729T022344Z
UID:1695-1404727200-1404748800@diego-sanchez.com
SUMMARY:El Poder del Arraigo\, con Diego Sanchez en Zapallar\, Chile el 7-7-2014
DESCRIPTION:  \n \n¿Qué es sentirse arraigado?\n En términos energéticos\, sentirse arraigado significa “dejarse sostener por la Tierra”. \nCuando “no soy de aquí\, ni soy de allá”\, debido a mudanzas\, cambios de país\, “movidas de piso”\, miedo\, cambios bruscos de circunstancias de vida\, o situaciones donde está en peligro nuestra supervivencia\, poder “plantarse” frente a una situación es de especial importancia. Esto es válido en las crisis\, pero también en la vida cotidiana para poder estar presente en el momento y disfrutar del “ahora”\, aprovechando la fuente de sostén más importante que siempre tenemos a disposición: la Tierra.\nLa manera más directa de reconectarnos con la Tierra\, es a partir de la sensación física de bienestar que el arraigo genera en el cuerpo\, activando el CHAKRA RAÍZ.\nEn este taller haremos técnicas de meditación\, mindfulness y trabajo con chakras para conocer el mecanismo que nos dará el poder del arraigo en minutos y en cualquier lugar o situación. No hace falta experiencia previa . \nTaller de un día\, el lunes 7 de julio 2014 de 10 a 16hs.\nen ASTROMELIA SPA entre Zapallar y Papudo. ANOTATE AQUI\n\n\nCONTACTO EN CHILE: Paulina Marambio:  paumarambio@hotmail.com\nmás información e inscripciones CLICK AQUI\nDiego Sanchez ha ayudado a miles de personas a reconectarse con su Ser Interior. El trabajo que haremos esta basado en técnicas de sanación chamánicas de la tradición del Cáucaso y en los más de 20 años de experiencia clínica que ha tenido tratando pacientes con Zen Shiatsu y medicina tradicional china. Habrá un seguimiento individual durante los ejercicios que aprenderemos\, por lo que los cupos son limitados.\n\n\nDiego estará disponible para sesiones individuales de armonización energética en los días previos y posteriores al curso. \n\nANOTATE AQUI para recibir una sesión individual\n  \n  \n 
URL:https://diego-sanchez.com/event/el-poder-del-arraigo-en-zapallar-chile/
LOCATION:Unnamed Venue\, Zapallar\, Chile
CATEGORIES:Spanish
END:VEVENT
BEGIN:VEVENT
DTSTART;TZID=UTC:20140704T190000
DTEND;TZID=UTC:20140704T203000
DTSTAMP:20260424T014551
CREATED:20140617T073313Z
LAST-MODIFIED:20150729T022344Z
UID:1701-1404500400-1404505800@diego-sanchez.com
SUMMARY:Conferencia abierta y gratuita: La Dinámica del Arraigo. Viernes 4 de julio\, COLEGIO PACIFICA\, en CACHAGUA\, Chile
DESCRIPTION:Conferencia de introducción al trabajo de Diego Sanchez con Meditaciones Activas y el curso que presentará el día 7.\n Esta noche hablaremos del Chakra Raíz y la importancia del arraigo como solución a los problemas de ansiedad\, cada vez más comunes.\nHablaremos de la particularidad energética del territorio chileno y los terremotos\, como causa de inestabilidad que afecta directamente al chakra de la supervivencia (Chakra 1) \nHaremos algunos ejercicios para entender esta dinámica desde la vivencia individual.\n  \nConferencia gratuita el 4 de julio de 19 a 20:30hs\nCOLEGIO PACIFICA. CACHAGUA\, \nImprescindible Inscripción previa:ANOTATE AQUI\ncontacto: Paulina Marambio paumarambio@hotmail.com\n  \n No te pierdas el curso del día 7 de julio en Astromelia\nINFORMACIÓN E INSCRICIONES AL CURSO DEL DIA 7 DE JULIO AQUI\n  \n 
URL:https://diego-sanchez.com/event/conferencia-abierta-y-gratuita-la-dinamica-del-arraigo-viernes-4-de-julio-colegio-pacifica-en-cachagua-chile/
LOCATION:Unnamed Venue\, zapallar\, Chile
CATEGORIES:Spanish
END:VEVENT
BEGIN:VEVENT
DTSTART;TZID=UTC:20140531T093000
DTEND;TZID=UTC:20140531T160000
DTSTAMP:20260424T014551
CREATED:20140512T013032Z
LAST-MODIFIED:20150729T022344Z
UID:1655-1401528600-1401552000@diego-sanchez.com
SUMMARY:Amar lo que uno Hace\, Hacer lo que uno Ama:  Taller en Montevideo el 31 de mayo 2014
DESCRIPTION:Amar lo que uno Hace\, Hacer lo que uno Ama \nPRECIOS DEL TALLER E INSCRIPCIONES - CLICK AQUI\nHacer lo que uno ama\, amar lo que se hace\, actuar desde el corazón\, materializar el fruto del amor…\, son expresiones de quienes encuentran sentido en cada cosa que hacen. A veces sólo alinear el corazón con la acción es suficiente\, pero otras veces si no sabemos qué es lo que queremos hacer resulta más difícil darle sentido a lo que hacemos. … (leer el artículo completo aquí)\n  \nDesde la perspectiva de la psicogenealogía hay una misión biológica y social heredada de nuestro clan\, que se expresa en el “Proyecto Sentido”\, o qué es lo que necesitaba el clan de nosotros cuando nuestros padres nos concibieron.  A veces nos pasamos toda la vida\, obedeciendo mandatos que no sabemos ni siquiera cuáles son. Descubrirlos y poder desactivar los mandatos que no estan alineados con quiénes somos\, o qué queremos como individuos\, son la base para verdaderamente ejercer nuestro derecho a ser felices.\nDesde otra perspectiva\, el chamanismo propone una serie de pasos para conectar con aspectos específicos de la persona que quiere encontrar su misión. Hay aspectos relativos a los chakras (del amor\, de la materialización\, de la visión) y otros que son relativos a los ancestros y a partes específicas del espíritu donde se conservan las experiencias de vidas pasadas (Espíritu Profesional\, Alma).\nEntender la dinámica energética de cada uno\, nuestros puntos fuertes o débiles\, nuestro talento innato para ciertas actividades\, es útil para alinear lo que hacemos con lo que somos.\n  \nEn este taller exploraremos fuentes de diferentes tradiciones para descubrir cómo podemos darle sentido a nuestras acciones y poder materializar el fruto de nuestra misión.\nANOTATE AQUI!\ncon Diego Sanchez \n31-5-2014 \nESPACIO MARMA \nTEL 2604 34 12 \nRivera 6488\, Local 5\, Montevideo Uruguay entre Costa Rica y Arocena (Carrasco)\n 
URL:https://diego-sanchez.com/event/amar-lo-que-uno-hace-hacer-lo-que-uno-ama-taller-en-montevideo-el-31-de-mayo-2014/
LOCATION:ESPACIO MARMA\, Rivera 6488\, Local 5\, Montevideo\, Montevideo\, Uruguay
CATEGORIES:Spanish
ORGANIZER;CN="Diego Sanchez":MAILTO:info@diego-sanchez.com
END:VEVENT
BEGIN:VEVENT
DTSTART;TZID=UTC:20140524T090000
DTEND;TZID=UTC:20140525T170000
DTSTAMP:20260424T014551
CREATED:20140425T003536Z
LAST-MODIFIED:20150729T022310Z
UID:1556-1400922000-1401037200@diego-sanchez.com
SUMMARY:Chakra Activation Seminar in Siena\, Italy - May 24th - 25th 2014
DESCRIPTION:[heading subtitle=””]May 24th 2014 – What is a Chakra? Activation of Chakras One to Seven.  Open to all.  No previous experience needed. \nMay 25th 2014 – How can Chakra and Meridian Systems be unified in your practice?  Open to acupuncture\, shiatsu and practitioners of other modalities.\n [/heading]\nMore Info and REGISTRATION
URL:https://diego-sanchez.com/event/chakra-activation-seminar-in-siena-italy-may-24th-25th-2014/
LOCATION:Spazio Luce\, Via della Repubblica 81\, Poggibonsi\, Siena\, Italy
CATEGORIES:English
ORGANIZER;CN="Massimo Cantara - Serena Bagnoli":MAILTO:mserena.b@gmail.com
END:VEVENT
BEGIN:VEVENT
DTSTART;TZID=UTC:20140517T100000
DTEND;TZID=UTC:20140518T170000
DTSTAMP:20260424T014551
CREATED:20140425T012730Z
LAST-MODIFIED:20150729T022310Z
UID:1559-1400320800-1400432400@diego-sanchez.com
SUMMARY:MERIDIANS AND CHAKRAS seminar in Sudbury\, Suffolk UK - May 17th- 18th 2014
DESCRIPTION:AN EXPERIENTIAL APPROACH TO THE CHAKRAS THEORY AND PRACTICE\nMAY 17th -18th 2014 in Sudbury\, Suffolk\, UK \nwith Diego Sanchez Diplomate in Asian Bodywork Therapy\, CP\, LMT (NY State). \nWhat is energy?\nWhat is a Chakra? How is it formed?\nHow do Chakras move?\nHow can I use the Chakras for self-healing and spiritual development? \nIn this class you will:\n•	 Learn how to activate the energy in each of your chakras.\n•	 Get an insight of who you are by knowing how you use your energy.\n•	 Increase the effectiveness of your meditation and yoga techniques.\n•	 Activate your intuition to adapt to the energetic shifts that are happening now. \nDiego was a MRSS in the UK until he moved to USA to study closely with Pauline Sasaki for 8 years. They both trained with a shaman and an integration of the Meridian and Chakra system was developed by Pauline. Diego kept expanding that knowledge by working with thousands of clients sometimes in extreme situations\, such as Ground Zero during 9-11 and open-heart surgeries at Columbia Presbyterian Hospital in NYC\, becoming a pioneer in the integration of shiatsu and critical care in hospitals. He now lives in Uruguay\, where he organizes international retreats in a beautiful and unspoilt part of the Uruguayan coast. \nDAY 1- Chakra Rotation Exercises for Health – A fast method to activate and feel each of the 7 chakras vibrations in your body. A purely experiential approach to recognizing the different qualities of energy in your own body-mind and tools to apply it in your everyday life. \nDAY 2- Chakras: practical applications in clinical practice – An experiential approach for bodywork practitioners. Bridge the gap between the meridian and the chakra systems theory and practice. \nGBP140 – GBP110 (students) \nTHE GRANARY\nSUDBURY\, SUFFOLK UK\nOrganized by Diego Robirosa\nd.robirosa@virgin.net\n01787 319170 \nVERY FEW PLACES LEFT - REGISTER NOW!
URL:https://diego-sanchez.com/event/meridians-and-chakras-seminar-in-sudbury-suffolk-uk-may-17th-19th-2014/
LOCATION:THE GRANARY\, Quay Ln\, Sudbury\, Suffolk\, CO10 2AN\, United Kingdom
CATEGORIES:English
ORGANIZER;CN="Diego Robirosa":MAILTO:d.robirosa@virgin.net
END:VEVENT
BEGIN:VEVENT
DTSTART;TZID=UTC:20140505T140000
DTEND;TZID=UTC:20140505T153000
DTSTAMP:20260424T014551
CREATED:20140429T062147Z
LAST-MODIFIED:20150729T022344Z
UID:1576-1399298400-1399303800@diego-sanchez.com
SUMMARY:Aprende dos herramientas utilísimas para REFRESCAR TU MENTE:    clase gratis con Diego Sanchez y Nancy Jonckheere (Bélgica)
DESCRIPTION:5-5-2014 a las 14hs\nMeditación y Kinesiología Especializada con Diego Sanchez y Nancy Jockheere en Espacio MARMA\, Carrasco\n\n\n¿Dejar la mente en blanco? La naturaleza de la mente es estar activa.\nAprende a descubrir cuál es el mejor método de meditacion activa para ti.\nANOTAME !\nNo hace falta parar el mundo para bajarse e ir a practicar meditación.  Podés hacerlo manejando\, comiendo o caminando.\n\nEn esta clase te daremos dos herramientas de meditación para la vida diaria\, que usarás el resto de tu vida.\nNancy Jonckheere es una terapeuta en Kinesiología Especializada y Memoria Celular\, radicada en Uruguay. \nDiego Sanchez es un uruguayo aprendiendo a radicarse\, especialista en Meditaciones Activas y Shiatsu. \n  \nLa clase es gratis. Traer ropa cómoda y una sonrisa. \nSOLO CON INSCRIPCIÓN PREVIA INVITA A TUS AMIGAS ! agrega su email aquí
URL:https://diego-sanchez.com/event/aprende-dos-herramientas-utilisimas-para-refrescar-tu-mente-clase-gratis-con-diego-sanchez-y-nancy-jonckheere-belgica/
LOCATION:Espacio Marma\, Rivera 6488\, Local 5\, esq. Costa Rica CARRASCO\, Montevideo\, Montevideo\, 11511\, Uruguay
CATEGORIES:Spanish
ORGANIZER;CN="Unnamed Organizer":MAILTO:info@diego-sanchez.com
END:VEVENT
END:VCALENDAR