BEGIN:VCALENDAR
VERSION:2.0
PRODID:-//Diego Sanchez - ECPv6.13.0//NONSGML v1.0//EN
CALSCALE:GREGORIAN
METHOD:PUBLISH
X-ORIGINAL-URL:https://diego-sanchez.com
X-WR-CALDESC:Events for Diego Sanchez
REFRESH-INTERVAL;VALUE=DURATION:PT1H
X-Robots-Tag:noindex
X-PUBLISHED-TTL:PT1H
BEGIN:VTIMEZONE
TZID:America/Sao_Paulo
BEGIN:STANDARD
TZOFFSETFROM:-0300
TZOFFSETTO:-0300
TZNAME:-03
DTSTART:20260101T000000
END:STANDARD
END:VTIMEZONE
BEGIN:VEVENT
DTSTART;VALUE=DATE:20260925
DTEND;VALUE=DATE:20261002
DTSTAMP:20260424T001742
CREATED:20250311T193301Z
LAST-MODIFIED:20260314T223735Z
UID:4722-1790294400-1790899199@diego-sanchez.com
SUMMARY:RETREAT IN GREECE Meditation and Yoga in Nature
DESCRIPTION:The Way of the Elements: A Consciousness Retreat between Yoga and Ancestral Traditions \nMILOS Sept 25th – Oct 1st 2026\nThe island of Milos\, with its white rocks and transparent sea\, is a landscape that invites silence and listening. In this essential nature\, freedom and presence become immediate. The wind\, the sun\, the volcanic earth\, and the sea water are not a backdrop: they are a living part of the practice. \n\n🌿 The workshop was born from a desire to explore consciousness through the body. \nTraditional yoga offers tools for profound transformation: asana\, prānāyāma\, mudrā\, bandha\, and dhāraṇā practices. Through consistent practice\, everyone can rediscover an innate capacity for transformation and evolution of consciousness. It’s not about learning something new: it’s about remembering what has always been present. \n  \n🌿 Alongside yoga\, ancestral practices bring another perspective: sound\, rhythm\, symbolism\, and a relationship with the elements and the Earth. \n  \nThey are different traditions\, born in distant places and times\, yet driven by the desire to open broader interior spaces\, to connect human beings with nature and with something beyond. \n\nThe retreat thus becomes a meeting of different paths. The paths are not identical\, and they don’t intend to be. But they all point in the same direction: a clearer\, more present\, more alive consciousness. \n  \nEvery day we will explore body\, breath\, rhythm\, and nature. Every practice will become an opportunity to feel more deeply who we are. Transformation is not a goal to be achieved\, but a natural process that manifests when we listen. \nMilos supports us with its understated beauty: the light of the Aegean\, the purifying wind\, the silence of the rocks\, the embrace of the sea. \nHere we can slow down\, simplify\, and rediscover a unique connection with life. Yoga and ancestral practices\, despite their diversity\, demonstrate a common truth: consciousness can expand. And every human being can experience it. \n\n  \nDIEGO SANCHEZ – MEDITATION AND HEALING with the Spiritual Forces of Nature\n\nFRANCESCA PALOMBI – YOGA\n\n  \n  \nCLICK HERE FOR MORE INFO AND REGISTRATION\n\n\nRegistration open! \n\n\n\n\n@diego.sanchez.shiatsu \n@francescapalombi_yoga
URL:https://diego-sanchez.com/event/retreat-in-milos-greece/
LOCATION:MILOS\, GREECE\, TRIPITI\, MILOS\, Greece
CATEGORIES:All / Todos,Retreats in Uruguay
ATTACH;FMTTYPE=image/jpeg:https://diego-sanchez.com/wp-content/uploads/2025/03/MILOS-2026.001.jpeg
END:VEVENT
END:VCALENDAR