BEGIN:VCALENDAR
VERSION:2.0
PRODID:-//Diego Sanchez - ECPv6.13.0//NONSGML v1.0//EN
CALSCALE:GREGORIAN
METHOD:PUBLISH
X-ORIGINAL-URL:https://diego-sanchez.com
X-WR-CALDESC:Events for Diego Sanchez
REFRESH-INTERVAL;VALUE=DURATION:PT1H
X-Robots-Tag:noindex
X-PUBLISHED-TTL:PT1H
BEGIN:VTIMEZONE
TZID:America/Sao_Paulo
BEGIN:STANDARD
TZOFFSETFROM:-0300
TZOFFSETTO:-0300
TZNAME:-03
DTSTART:20250101T000000
END:STANDARD
END:VTIMEZONE
BEGIN:VEVENT
DTSTART;TZID=America/Sao_Paulo:20250301T090000
DTEND;TZID=America/Sao_Paulo:20250302T170000
DTSTAMP:20260423T225315
CREATED:20241219T144938Z
LAST-MODIFIED:20250122T153832Z
UID:4663-1740819600-1740934800@diego-sanchez.com
SUMMARY:La Geografia Energetica delle Relazioni - seminario esperienziale a Firenze
DESCRIPTION:La geografia energetica delle Relazioni\ne come scegliere le strade giuste per essere in pace.\nOgnuno di noi ha diversi ruoli nelle relazioni ed ogni ruolo ha una sua gerarchia: possiamo essere genitori\, fidanzati\, cugini\, zii\, fratelli\, sorelle\, sposi\, nonni\, studenti\, lavoratori\, pensionati\, alcuni di questi ruoli non li ricopriremo mai\, ma c’è un ruolo che abbiamo tutti che è quello di figlia o figlio. \nQuesta è la posizione gerarchica che condividiamo con tutti ed è la chiave per costruire la base fondante di ogni altro rapporto.\n  \nLe posizioni gerarchiche sono anche archetipi che portano una particolare carica energetica. Conoscere qual è la nostra posizione\, la sua valenza nei ruoli che occupiamo\, e quali sono le posizioni delle persone più vicine\, ci dà una mappa per navigare nei rapporti con più consapevolezza\, chiarezza e gioia.\n\n		\n		\n			\n				\n			\n			\n				\n			\n			\n				\n			\n		\n\nIl seminario sarà esperienziale\, faremo degli esercizi di auto-percezione e percezione energetica degli spazi inter personali\, posizionandosi nei diversi ruoli che occupiamo. Osservando le interazioni potremo trovare modi più efficaci di piazzarci di fronte alle diverse sfide che la vita ci mostra\, con noi stessi e con gli altri.\n  \nIl seminario è aperto a tutti\, non servono precedenti esperienze.\n1 e 2 MARZO 2025\nA Poggibonsi\, Firenze\ndalle 9 alle 17\n€290\ncontact: info@diego-sanchez.com\niscrizioni: Ludovica Dei\n+39 349 322 9228\nchiantishiatsu@libero.it\n  \n 
URL:https://diego-sanchez.com/event/la-geografia-energetica-dei-rapporti-seminario-esperienziale-a-firenze/
LOCATION:Poggibonsi\, Poggibonsi\, Siena\, Italy
CATEGORIES:All / Todos
ATTACH;FMTTYPE=image/jpeg:https://diego-sanchez.com/wp-content/uploads/2024/12/096b0473-13d4-46f3-822c-6833f99ed7b6.jpg
ORGANIZER;CN="Ludovica Dei":MAILTO:info@diego-sanchez.com
END:VEVENT
END:VCALENDAR